BEGIN:VCALENDAR
VERSION:2.0
PRODID:-//S3D | O poder de Integrar - ECPv6.15.20//NONSGML v1.0//EN
CALSCALE:GREGORIAN
METHOD:PUBLISH
X-ORIGINAL-URL:https://www.s3d.pt
X-WR-CALDESC:Eventos para S3D | O poder de Integrar
REFRESH-INTERVAL;VALUE=DURATION:PT1H
X-Robots-Tag:noindex
X-PUBLISHED-TTL:PT1H
BEGIN:VTIMEZONE
TZID:UTC
BEGIN:STANDARD
TZOFFSETFROM:+0000
TZOFFSETTO:+0000
TZNAME:UTC
DTSTART:20230101T000000
END:STANDARD
END:VTIMEZONE
BEGIN:VEVENT
DTSTART;TZID=UTC:20240521T090000
DTEND;TZID=UTC:20240521T180000
DTSTAMP:20260419T142234
CREATED:20240205T110651Z
LAST-MODIFIED:20240508T165324Z
UID:126403-1716282000-1716314400@www.s3d.pt
SUMMARY:FIKUS ST
DESCRIPTION:Descrição: \n\nFormação Fikus ST com o objetivo de formar os colaboradores da sua empresa em programação de corte por erosão de fio 2\,5 eixos e 4 eixos com o software Fikus Visualcam.\n\nDuração: \n\n8 horas\n21 de Maio de 2024\n09h às 18h\n\nMetodologia de Formação \n\nMétodo Expositivo\nMétodo Demonstrativo\nMétodo Interrogativo\n\nMetodologia de Avaliação \n\nTeórica\nPrática\n\nDestinatários \n\nProfissionais associados à indústria metalomecânica\, calçado\, cunhos e cortantes com interesse em desenvolver os conhecimentos no software Fikus Visualcam.\n\n  \n👉 INSCREVER AQUI
URL:https://www.s3d.pt/formacao/fikus-st/
CATEGORIES:Fikus,Fikus ST
ATTACH;FMTTYPE=image/png:https://www.s3d.pt/wp-content/uploads/2022/12/fikus_formacao.png
END:VEVENT
END:VCALENDAR